BEGIN:VCALENDAR
VERSION:2.0
PRODID:-//Glenmuir High School Past Students' Association - ECPv6.15.20//NONSGML v1.0//EN
CALSCALE:GREGORIAN
METHOD:PUBLISH
X-WR-CALNAME:Glenmuir High School Past Students' Association
X-ORIGINAL-URL:https://glenmuirhspsa.com
X-WR-CALDESC:Events for Glenmuir High School Past Students' Association
REFRESH-INTERVAL;VALUE=DURATION:PT1H
X-Robots-Tag:noindex
X-PUBLISHED-TTL:PT1H
BEGIN:VTIMEZONE
TZID:America/Jamaica
BEGIN:STANDARD
TZOFFSETFROM:-0500
TZOFFSETTO:-0500
TZNAME:EST
DTSTART:20200101T000000
END:STANDARD
END:VTIMEZONE
BEGIN:VEVENT
DTSTART;TZID=America/Jamaica:20210724T190000
DTEND;TZID=America/Jamaica:20210724T230000
DTSTAMP:20260421T061206
CREATED:20210721T131411Z
LAST-MODIFIED:20210721T131559Z
UID:5368-1627153200-1627167600@glenmuirhspsa.com
SUMMARY:Our 2nd Zoom Funtertainment
DESCRIPTION:Remember No Judging…Just Laughing \nMain acts on the night: \nJhennelle Lewis\nDesmond Dennis\nJoel Edwards\nCourtney Boothe\nBarbara Bowen\nLeony McPherson and many others \nMCs: Sydney Bartley\, Cheryl Clark\, Lenford ‘Birdie’ Spencer \nDJs:\nDJ Larry//DJ Prince\nDT Tony // Mr. Face \nMeeting ID: 729 376 5107\nPasscode: 6JHhw9
URL:https://glenmuirhspsa.com/event/our-2nd-zoom-funtertainment/
LOCATION:NY
ATTACH;FMTTYPE=image/jpeg:https://glenmuirhspsa.com/wp-content/uploads/2021/07/GHSPSA-2nd-Zoom-Funtertainment.jpg
END:VEVENT
END:VCALENDAR