BEGIN:VCALENDAR
VERSION:2.0
PRODID:-//Glenmuir High School Past Students' Association - ECPv6.15.20//NONSGML v1.0//EN
CALSCALE:GREGORIAN
METHOD:PUBLISH
X-WR-CALNAME:Glenmuir High School Past Students' Association
X-ORIGINAL-URL:https://glenmuirhspsa.com
X-WR-CALDESC:Events for Glenmuir High School Past Students' Association
REFRESH-INTERVAL;VALUE=DURATION:PT1H
X-Robots-Tag:noindex
X-PUBLISHED-TTL:PT1H
BEGIN:VTIMEZONE
TZID:America/Jamaica
BEGIN:STANDARD
TZOFFSETFROM:-0500
TZOFFSETTO:-0500
TZNAME:EST
DTSTART:20200101T000000
END:STANDARD
END:VTIMEZONE
BEGIN:VEVENT
DTSTART;TZID=America/Jamaica:20210731T150000
DTEND;TZID=America/Jamaica:20210731T190000
DTSTAMP:20260421T062027
CREATED:20210720T180955Z
LAST-MODIFIED:20210720T180955Z
UID:5357-1627743600-1627758000@glenmuirhspsa.com
SUMMARY:Pop Up & Pop In Fish Fry Fundraiser
DESCRIPTION:Glenmuir Alumni Association N.Y. Chapter presents the Pop-Up & pop-In fish Fry Fundraiser \nMenu items: \n*Tun Up* Jerk Chicken – $12 \n*Scrumptious* Escoveitched Fish – $20 \n*Tasty* Curried Goat – $15 \n*Mouthwatering* Goat Soup – $8 \n*Yum-yum* Peppered Shrimp – $8 \nOrders include a side order of rice & peas/festival/salad\, a can of soda/water
URL:https://glenmuirhspsa.com/event/pop-up-pop-in-fish-fry-fundraiser/
LOCATION:NY
ATTACH;FMTTYPE=image/jpeg:https://glenmuirhspsa.com/wp-content/uploads/2021/07/Pop-Up-Pop-In-Fish-Fry-Fundraiser.jpg
END:VEVENT
END:VCALENDAR