BEGIN:VCALENDAR
VERSION:2.0
PRODID:-//Glenmuir High School Past Students' Association - ECPv6.15.20//NONSGML v1.0//EN
CALSCALE:GREGORIAN
METHOD:PUBLISH
X-WR-CALNAME:Glenmuir High School Past Students' Association
X-ORIGINAL-URL:https://glenmuirhspsa.com
X-WR-CALDESC:Events for Glenmuir High School Past Students' Association
REFRESH-INTERVAL;VALUE=DURATION:PT1H
X-Robots-Tag:noindex
X-PUBLISHED-TTL:PT1H
BEGIN:VTIMEZONE
TZID:America/Jamaica
BEGIN:STANDARD
TZOFFSETFROM:-0500
TZOFFSETTO:-0500
TZNAME:EST
DTSTART:20200101T000000
END:STANDARD
END:VTIMEZONE
BEGIN:VEVENT
DTSTART;VALUE=DATE:20210924
DTEND;VALUE=DATE:20210927
DTSTAMP:20260421T091941
CREATED:20210907T204613Z
LAST-MODIFIED:20210913T213922Z
UID:5509-1632441600-1632700799@glenmuirhspsa.com
SUMMARY:Postponed - Glenmuir Alumni Association South Florida Chapter  'End of Summer Weekend'
DESCRIPTION:Friday September 24 – Aloha “the Friday Night Luau”\nDescription: Hawaiian kick off meet and greet event\nEntry Fee: USD $25\nTime: 8pm until…\nLocation: Ft Lauderdale Grand Hotel\, 4900 Powerline Road\, FT\, Lauderdale\, FL\, 33309 \nSaturday September 25 – Back to the 80s and 90s Party\nDescription: Turn back the clock for a totally awesome party. Live in the mix with DJ Radcliffe\nEntry Fee: USD $65\nTime: 8pm until…\nLocation: Ft Lauderdale Grand Hotel\, 4900 Powerline Road\, FT\, Lauderdale\, FL\, 33309 \nSunday September 26 – Let’s Meet in the Backyard for Our famous Get together\nEntry Fee: USD $25\nTime: 1pm until…\nLocation: TBD
URL:https://glenmuirhspsa.com/event/glenmuir-alumni-association-south-florida-chapter-end-of-summer-weekend-sept-24-26-2021/
LOCATION:Ft Lauderdale Grand Hotel\, 4900 Powerline Road\, FT Lauderdale\, 33309\, United States
ATTACH;FMTTYPE=image/jpeg:https://glenmuirhspsa.com/wp-content/uploads/2021/09/Event-Postponed.jpeg
END:VEVENT
END:VCALENDAR