BEGIN:VCALENDAR
VERSION:2.0
PRODID:-//Glenmuir High School Past Students' Association - ECPv6.15.20//NONSGML v1.0//EN
CALSCALE:GREGORIAN
METHOD:PUBLISH
X-WR-CALNAME:Glenmuir High School Past Students' Association
X-ORIGINAL-URL:https://glenmuirhspsa.com
X-WR-CALDESC:Events for Glenmuir High School Past Students' Association
REFRESH-INTERVAL;VALUE=DURATION:PT1H
X-Robots-Tag:noindex
X-PUBLISHED-TTL:PT1H
BEGIN:VTIMEZONE
TZID:America/Jamaica
BEGIN:STANDARD
TZOFFSETFROM:-0500
TZOFFSETTO:-0500
TZNAME:EST
DTSTART:20220101T000000
END:STANDARD
END:VTIMEZONE
BEGIN:VEVENT
DTSTART;VALUE=DATE:20230910
DTEND;VALUE=DATE:20230918
DTSTAMP:20260422T112139
CREATED:20230905T200845Z
LAST-MODIFIED:20230905T200845Z
UID:8908-1694304000-1694995199@glenmuirhspsa.com
SUMMARY:Founder's Week Activities
DESCRIPTION:Service of Praise and Thanksgiving\nSpirit Day\nFounder’s Day\nUnveiling of Head Prefects’ Shield of Recognition\nRecognizing our Legends: Naming of Building\nTelevised DaCosta Cup Match (Home Game)\nLunch on the Lawn
URL:https://glenmuirhspsa.com/event/founders-week-activities/
LOCATION:Glenmuir High School\, 10 Glenmuir Road\, May Pen\, Clarendon\, Jamaica
ATTACH;FMTTYPE=image/jpeg:https://glenmuirhspsa.com/wp-content/uploads/2023/09/GHS-at-65-Week-of-Activities.jpg
END:VEVENT
BEGIN:VEVENT
DTSTART;TZID=America/Jamaica:20230913T080000
DTEND;TZID=America/Jamaica:20230913T170000
DTSTAMP:20260422T112139
CREATED:20230905T200039Z
LAST-MODIFIED:20230905T200110Z
UID:8901-1694592000-1694624400@glenmuirhspsa.com
SUMMARY:GHS at 65 Spirit Day
DESCRIPTION:
URL:https://glenmuirhspsa.com/event/ghs-at-65-spirit-day/
LOCATION:NY
ATTACH;FMTTYPE=image/jpeg:https://glenmuirhspsa.com/wp-content/uploads/2023/09/GHS-at-65-Spirit-Day.jpg
END:VEVENT
END:VCALENDAR