BEGIN:VCALENDAR
VERSION:2.0
PRODID:-//Glenmuir High School Past Students' Association - ECPv6.15.20//NONSGML v1.0//EN
CALSCALE:GREGORIAN
METHOD:PUBLISH
X-WR-CALNAME:Glenmuir High School Past Students' Association
X-ORIGINAL-URL:https://glenmuirhspsa.com
X-WR-CALDESC:Events for Glenmuir High School Past Students' Association
REFRESH-INTERVAL;VALUE=DURATION:PT1H
X-Robots-Tag:noindex
X-PUBLISHED-TTL:PT1H
BEGIN:VTIMEZONE
TZID:America/Jamaica
BEGIN:STANDARD
TZOFFSETFROM:-0500
TZOFFSETTO:-0500
TZNAME:EST
DTSTART:20230101T000000
END:STANDARD
END:VTIMEZONE
BEGIN:VEVENT
DTSTART;TZID=America/Jamaica:20240914T080000
DTEND;TZID=America/Jamaica:20240918T170000
DTSTAMP:20260422T165955
CREATED:20240914T103815Z
LAST-MODIFIED:20240914T103815Z
UID:10400-1726300800-1726678800@glenmuirhspsa.com
SUMMARY:Glenmuir @66
DESCRIPTION:September 14\nDacosta Cup Match\nGlenmuir High vs Garvey Maceo\n@Glenmuir High School \nSeptember 15\nService of Praise & Thanksgiving \nSeptember 16\nThe Chairman’s Reception \nSeptember 18\nFounder’s Day Ceremony & Spirit Day
URL:https://glenmuirhspsa.com/event/glenmuir-66/
LOCATION:NY
ATTACH;FMTTYPE=image/jpeg:https://glenmuirhspsa.com/wp-content/uploads/2024/09/Glenmuir-Proud-Producing-FLAMES-that-Last.jpeg
END:VEVENT
END:VCALENDAR