BEGIN:VCALENDAR
VERSION:2.0
PRODID:-//Glenmuir High School Past Students' Association - ECPv6.15.20//NONSGML v1.0//EN
CALSCALE:GREGORIAN
METHOD:PUBLISH
X-WR-CALNAME:Glenmuir High School Past Students' Association
X-ORIGINAL-URL:https://glenmuirhspsa.com
X-WR-CALDESC:Events for Glenmuir High School Past Students' Association
REFRESH-INTERVAL;VALUE=DURATION:PT1H
X-Robots-Tag:noindex
X-PUBLISHED-TTL:PT1H
BEGIN:VTIMEZONE
TZID:America/Jamaica
BEGIN:STANDARD
TZOFFSETFROM:-0500
TZOFFSETTO:-0500
TZNAME:EST
DTSTART:20190101T000000
END:STANDARD
END:VTIMEZONE
BEGIN:VEVENT
DTSTART;TZID=America/Jamaica:20200912T150000
DTEND;TZID=America/Jamaica:20200912T163000
DTSTAMP:20260421T033056
CREATED:20200806T043558Z
LAST-MODIFIED:20200907T043757Z
UID:4325-1599922800-1599928200@glenmuirhspsa.com
SUMMARY:Annual General Meeting
DESCRIPTION:Meeting ID: 840 258 8974 \nJoin URL: https://ncc-zoom.zoom.us/j/8402588974?pwd=aGlicTlTcjVETE42QzJka0ovZldkQT09 \nSecurity passcode: 0325 \nAt the meeting\, members will have the opportunity to:\n• Enrol for membership to the GHSPSA\n• Find out about GHSPSA’s operations and finances\n• Speak about any item on the agenda\n• Vote for Officers : Vacant Positions of President\, Vice President\, Secretary\, Treasurer and Public Relations\n• Vote on any resolutions proposed\nPer Article 4.4 of the Constitution\, only members whose dues are fully paid up shall be entitled to vote.\nPer Article 4.5 of the Constitution\, nomination of any Officer shall be proposed by and seconded only by members who are in good standing. \nAGENDA\n1. Call to Order\n2. Prayer\n3. Adoption of Minutes of Annual General Meeting of September 15\, 2019\n4. President’s Report\n5. Treasurer’s Report\n6. Presentation & Adoption of 2018 and 2019 Audited Financials\n7. School’s Report\n8. Election of Officers\n9. Any Other Business\n10. Closing Remarks and Termination
URL:https://glenmuirhspsa.com/event/annual-general-meeting/
LOCATION:Zoom
ATTACH;FMTTYPE=image/jpeg:https://glenmuirhspsa.com/wp-content/uploads/2020/08/AGM-Notice.jpg
ORGANIZER;CN="Saundra Bailey":MAILTO:glenmuiralumnija@gmail.com
END:VEVENT
BEGIN:VEVENT
DTSTART;TZID=America/Jamaica:20200926T190000
DTEND;TZID=America/Jamaica:20200927T020000
DTSTAMP:20260421T033056
CREATED:20200915T002438Z
LAST-MODIFIED:20200915T002824Z
UID:4432-1601146800-1601172000@glenmuirhspsa.com
SUMMARY:Global Telethon Fundraiser - Rising Above COVID For A Better Tomorrow
DESCRIPTION:Purchase your ticket on Eventbrite: https://www.eventbrite.com/e/glenmuir-alumni-telethon-tickets-118797664011?utm-medium=discovery&utm-campaign=social&utm-content=attendeeshare&utm-source=wa&utm-term=listing
URL:https://glenmuirhspsa.com/event/global-telethon-fundraiser-rising-above-covid-for-a-better-tomorrow/
LOCATION:NY
ATTACH;FMTTYPE=image/jpeg:https://glenmuirhspsa.com/wp-content/uploads/2020/09/Global-Telethon.jpg
END:VEVENT
END:VCALENDAR