BEGIN:VCALENDAR
VERSION:2.0
PRODID:-//Glenmuir High School Past Students' Association - ECPv6.15.20//NONSGML v1.0//EN
CALSCALE:GREGORIAN
METHOD:PUBLISH
X-ORIGINAL-URL:https://glenmuirhspsa.com
X-WR-CALDESC:Events for Glenmuir High School Past Students' Association
REFRESH-INTERVAL;VALUE=DURATION:PT1H
X-Robots-Tag:noindex
X-PUBLISHED-TTL:PT1H
BEGIN:VTIMEZONE
TZID:America/Jamaica
BEGIN:STANDARD
TZOFFSETFROM:-0500
TZOFFSETTO:-0500
TZNAME:EST
DTSTART:20200101T000000
END:STANDARD
END:VTIMEZONE
BEGIN:VEVENT
DTSTART;TZID=America/Jamaica:20210623T080000
DTEND;TZID=America/Jamaica:20210623T170000
DTSTAMP:20260421T033224
CREATED:20210623T235227Z
LAST-MODIFIED:20210624T045142Z
UID:5266-1624435200-1624467600@glenmuirhspsa.com
SUMMARY:Survive & Thrive! Tips for Keeping Well & Seizing Branding Opportunities Online
DESCRIPTION:https://us02web.zoom.us/j/85778638588?pwd=ajlKQ1VMU3hsSmRiWWx0a1hCY0UvUT09 \nZoom meeting ID: 857 7863 8588 \nPasscode: GHSPSA
URL:https://glenmuirhspsa.com/event/survive-thrive-tips-for-keeping-well-seizing-branding-opportunities-online/
LOCATION:NY
ATTACH;FMTTYPE=image/jpeg:https://glenmuirhspsa.com/wp-content/uploads/2021/06/Survive-and-Thrive-GHSPSA-Meeting.jpg
END:VEVENT
END:VCALENDAR