BEGIN:VCALENDAR
VERSION:2.0
PRODID:-//Glenmuir High School Past Students' Association - ECPv6.15.20//NONSGML v1.0//EN
CALSCALE:GREGORIAN
METHOD:PUBLISH
X-ORIGINAL-URL:https://glenmuirhspsa.com
X-WR-CALDESC:Events for Glenmuir High School Past Students' Association
REFRESH-INTERVAL;VALUE=DURATION:PT1H
X-Robots-Tag:noindex
X-PUBLISHED-TTL:PT1H
BEGIN:VTIMEZONE
TZID:America/Jamaica
BEGIN:STANDARD
TZOFFSETFROM:-0500
TZOFFSETTO:-0500
TZNAME:EST
DTSTART:20200101T000000
END:STANDARD
END:VTIMEZONE
BEGIN:VEVENT
DTSTART;TZID=America/Jamaica:20210911T170000
DTEND;TZID=America/Jamaica:20210911T183000
DTSTAMP:20260421T074315
CREATED:20210902T080851Z
LAST-MODIFIED:20210907T202713Z
UID:5483-1631379600-1631385000@glenmuirhspsa.com
SUMMARY:Annual General Meeting - 2021
DESCRIPTION:This is to advise you of the upcoming Annual General Meeting of the members of the\nGLENMUIR HIGH SCHOOL PAST STUDENTS’ ASSOCIATION. The details of this meeting are as\nfollows: \nDATE September 11\, 2021\nTIME 5:00 pm JMT\nPLACE Zoom Platform\nMeeting ID: 844 4081 0780\nPasscode: 964464 \nAt the meeting\, members will have the opportunity to:\n● Enroll for membership to the GHSPSA\n● Find out about GHSPSA’s operations and finances\n● Speak to any item on the agenda\n● Vote on any resolutions proposed Per Article 4.4 of the Constitution\,\n○ only members whose dues are fully paid up shall be entitled to vote. \nRegards\,\nBernadette Salmon\nSecretary
URL:https://glenmuirhspsa.com/event/annual-general-meeting-2021/
LOCATION:NY
ATTACH;FMTTYPE=image/jpeg:https://glenmuirhspsa.com/wp-content/uploads/2021/09/Save-the-Date-GHSPSA-AGM.jpg
END:VEVENT
BEGIN:VEVENT
DTSTART;VALUE=DATE:20210915
DTEND;VALUE=DATE:20210916
DTSTAMP:20260421T074315
CREATED:20210913T213250Z
LAST-MODIFIED:20210913T213712Z
UID:5588-1631664000-1631750399@glenmuirhspsa.com
SUMMARY:63rd Founder's Day Celebration
DESCRIPTION:Theme\nLevel Up: Carry the Flagrans Flame Traditionally\, Physically\, Virtually” \nJoin us on Zoom for our:  \nFounder’s Day Service\nRap Session with Past Students\n‘Best of the Decades’ Variety Concert\nPopular Song & Speech Competitions\nMeeting ID: 895 1315 4337\nPasscode: 870553
URL:https://glenmuirhspsa.com/event/63rd-founders-day-celebration/
LOCATION:NY
ATTACH;FMTTYPE=image/jpeg:https://glenmuirhspsa.com/wp-content/uploads/2021/09/Founders-Day-Celebration.jpg
END:VEVENT
BEGIN:VEVENT
DTSTART;VALUE=DATE:20210924
DTEND;VALUE=DATE:20210927
DTSTAMP:20260421T074315
CREATED:20210907T204613Z
LAST-MODIFIED:20210913T213922Z
UID:5509-1632441600-1632700799@glenmuirhspsa.com
SUMMARY:Postponed - Glenmuir Alumni Association South Florida Chapter  'End of Summer Weekend'
DESCRIPTION:Friday September 24 – Aloha “the Friday Night Luau”\nDescription: Hawaiian kick off meet and greet event\nEntry Fee: USD $25\nTime: 8pm until…\nLocation: Ft Lauderdale Grand Hotel\, 4900 Powerline Road\, FT\, Lauderdale\, FL\, 33309 \nSaturday September 25 – Back to the 80s and 90s Party\nDescription: Turn back the clock for a totally awesome party. Live in the mix with DJ Radcliffe\nEntry Fee: USD $65\nTime: 8pm until…\nLocation: Ft Lauderdale Grand Hotel\, 4900 Powerline Road\, FT\, Lauderdale\, FL\, 33309 \nSunday September 26 – Let’s Meet in the Backyard for Our famous Get together\nEntry Fee: USD $25\nTime: 1pm until…\nLocation: TBD
URL:https://glenmuirhspsa.com/event/glenmuir-alumni-association-south-florida-chapter-end-of-summer-weekend-sept-24-26-2021/
LOCATION:Ft Lauderdale Grand Hotel\, 4900 Powerline Road\, FT Lauderdale\, 33309\, United States
ATTACH;FMTTYPE=image/jpeg:https://glenmuirhspsa.com/wp-content/uploads/2021/09/Event-Postponed.jpeg
END:VEVENT
END:VCALENDAR