BEGIN:VCALENDAR
VERSION:2.0
PRODID:-//Glenmuir High School Past Students' Association - ECPv6.15.20//NONSGML v1.0//EN
CALSCALE:GREGORIAN
METHOD:PUBLISH
X-WR-CALNAME:Glenmuir High School Past Students' Association
X-ORIGINAL-URL:https://glenmuirhspsa.com
X-WR-CALDESC:Events for Glenmuir High School Past Students' Association
REFRESH-INTERVAL;VALUE=DURATION:PT1H
X-Robots-Tag:noindex
X-PUBLISHED-TTL:PT1H
BEGIN:VTIMEZONE
TZID:America/Jamaica
BEGIN:STANDARD
TZOFFSETFROM:-0500
TZOFFSETTO:-0500
TZNAME:EST
DTSTART:20220101T000000
END:STANDARD
END:VTIMEZONE
BEGIN:VEVENT
DTSTART;TZID=America/Jamaica:20230826T180000
DTEND;TZID=America/Jamaica:20230826T230000
DTSTAMP:20260422T082349
CREATED:20230709T081516Z
LAST-MODIFIED:20230709T081516Z
UID:8754-1693072800-1693090800@glenmuirhspsa.com
SUMMARY:Glenmuir at 65 Dinner Dance Gala
DESCRIPTION:Music by: DJ Mark Anthony\nWith Host: Dwight Barrelman Ross\nFeaturing Award Winning Artists: Latoya Mullings\nDoors open at 6PM\nTickets: $100/person\nProceeds in aid of school entrance
URL:https://glenmuirhspsa.com/event/glenmuir-at-65-dinner-dance-gala/
LOCATION:231 Milner Ave\, Scarborough\, ON M1S 5E3\, Canada\, 231 Milner Ave\, Scarborough\, Ontario\, ON M1S 5E3\, Canada
ATTACH;FMTTYPE=image/jpeg:https://glenmuirhspsa.com/wp-content/uploads/2023/07/Glenmuir-Dinner-Dance-Gala-2023.jpg
END:VEVENT
END:VCALENDAR