BEGIN:VCALENDAR
VERSION:2.0
PRODID:-//Glenmuir High School Past Students' Association - ECPv6.15.20//NONSGML v1.0//EN
CALSCALE:GREGORIAN
METHOD:PUBLISH
X-ORIGINAL-URL:https://glenmuirhspsa.com
X-WR-CALDESC:Events for Glenmuir High School Past Students' Association
REFRESH-INTERVAL;VALUE=DURATION:PT1H
X-Robots-Tag:noindex
X-PUBLISHED-TTL:PT1H
BEGIN:VTIMEZONE
TZID:America/Jamaica
BEGIN:STANDARD
TZOFFSETFROM:-0500
TZOFFSETTO:-0500
TZNAME:EST
DTSTART:20220101T000000
END:STANDARD
END:VTIMEZONE
BEGIN:VEVENT
DTSTART;VALUE=DATE:20230910
DTEND;VALUE=DATE:20230918
DTSTAMP:20260422T113037
CREATED:20230905T200845Z
LAST-MODIFIED:20230905T200845Z
UID:8908-1694304000-1694995199@glenmuirhspsa.com
SUMMARY:Founder's Week Activities
DESCRIPTION:Service of Praise and Thanksgiving\nSpirit Day\nFounder’s Day\nUnveiling of Head Prefects’ Shield of Recognition\nRecognizing our Legends: Naming of Building\nTelevised DaCosta Cup Match (Home Game)\nLunch on the Lawn
URL:https://glenmuirhspsa.com/event/founders-week-activities/
LOCATION:Glenmuir High School\, 10 Glenmuir Road\, May Pen\, Clarendon\, Jamaica
ATTACH;FMTTYPE=image/jpeg:https://glenmuirhspsa.com/wp-content/uploads/2023/09/GHS-at-65-Week-of-Activities.jpg
END:VEVENT
BEGIN:VEVENT
DTSTART;TZID=America/Jamaica:20230910T083000
DTEND;TZID=America/Jamaica:20230910T120000
DTSTAMP:20260422T113037
CREATED:20230905T195906Z
LAST-MODIFIED:20230905T195906Z
UID:8897-1694334600-1694347200@glenmuirhspsa.com
SUMMARY:GHS at 65 Service of Praise and Thanksgiving
DESCRIPTION:
URL:https://glenmuirhspsa.com/event/ghs-at-65-service-of-praise-and-thanksgiving/
LOCATION:St. Gabriel’s Anglican Church\, 10 Church Street May Pen\, Clarendon\, Jamaica
ATTACH;FMTTYPE=image/jpeg:https://glenmuirhspsa.com/wp-content/uploads/2023/09/GHS-at-65-Service-of-Praise-and-Thanksgiving.jpg
END:VEVENT
BEGIN:VEVENT
DTSTART;TZID=America/Jamaica:20230913T080000
DTEND;TZID=America/Jamaica:20230913T170000
DTSTAMP:20260422T113037
CREATED:20230905T200039Z
LAST-MODIFIED:20230905T200110Z
UID:8901-1694592000-1694624400@glenmuirhspsa.com
SUMMARY:GHS at 65 Spirit Day
DESCRIPTION:
URL:https://glenmuirhspsa.com/event/ghs-at-65-spirit-day/
LOCATION:NY
ATTACH;FMTTYPE=image/jpeg:https://glenmuirhspsa.com/wp-content/uploads/2023/09/GHS-at-65-Spirit-Day.jpg
END:VEVENT
BEGIN:VEVENT
DTSTART;TZID=America/Jamaica:20230915T090000
DTEND;TZID=America/Jamaica:20230915T170000
DTSTAMP:20260422T113037
CREATED:20230905T195324Z
LAST-MODIFIED:20230905T195324Z
UID:8891-1694768400-1694797200@glenmuirhspsa.com
SUMMARY:GHS at 65 Founders Day Activities
DESCRIPTION:Annual Founder’s Day Ceremony @ 9am\nHonoring Past Head Boys & Head Girls\n\nA shield bearing the names of all the past head prefects will be unveiled.\n\n\nNaming of a Building\n\nThe Bishop Gibson Centre of Management & Administration
URL:https://glenmuirhspsa.com/event/ghs-at-65-founders-day-activities/
LOCATION:Glenmuir High School\, 10 Glenmuir Road\, May Pen\, Clarendon\, Jamaica
ATTACH;FMTTYPE=image/jpeg:https://glenmuirhspsa.com/wp-content/uploads/2023/09/GHS-at-65-Founders-Day-Activities.jpg
END:VEVENT
BEGIN:VEVENT
DTSTART;VALUE=DATE:20230916
DTEND;VALUE=DATE:20230917
DTSTAMP:20260422T113037
CREATED:20230905T200345Z
LAST-MODIFIED:20230905T200428Z
UID:8904-1694822400-1694908799@glenmuirhspsa.com
SUMMARY:Televised DaCosta Cup Match
DESCRIPTION:Televised DaCosta Cup Match
URL:https://glenmuirhspsa.com/event/televised-dacosta-cup-match/
LOCATION:Glenmuir High School\, 10 Glenmuir Road\, May Pen\, Clarendon\, Jamaica
ATTACH;FMTTYPE=image/jpeg:https://glenmuirhspsa.com/wp-content/uploads/2023/09/GHS-at-65-Televised-Dacosta-Cup-Match.jpg
END:VEVENT
BEGIN:VEVENT
DTSTART;TZID=America/Jamaica:20230917T110000
DTEND;TZID=America/Jamaica:20230917T150000
DTSTAMP:20260422T113037
CREATED:20230905T195557Z
LAST-MODIFIED:20230905T195557Z
UID:8894-1694948400-1694962800@glenmuirhspsa.com
SUMMARY:Lunch on the Lawn
DESCRIPTION:
URL:https://glenmuirhspsa.com/event/lunch-on-the-lawn-3/
LOCATION:NY
ATTACH;FMTTYPE=image/jpeg:https://glenmuirhspsa.com/wp-content/uploads/2023/09/GHS-at-65-Lunch-on-the-Lawn.jpg
END:VEVENT
BEGIN:VEVENT
DTSTART;TZID=America/Jamaica:20230917T150000
DTEND;TZID=America/Jamaica:20230917T180000
DTSTAMP:20260422T113037
CREATED:20230915T220952Z
LAST-MODIFIED:20230915T220952Z
UID:8966-1694962800-1694973600@glenmuirhspsa.com
SUMMARY:Glenmuir High Past Students Association AGM
DESCRIPTION:Join Zoom Meeting \nMeeting ID: 839 2596 4532\nPasscode: GHS@65
URL:https://glenmuirhspsa.com/event/glenmuir-high-past-students-association-agm/
LOCATION:NY
ATTACH;FMTTYPE=image/png:https://glenmuirhspsa.com/wp-content/uploads/2018/08/cropped-ghscrest-favicon.png
END:VEVENT
BEGIN:VEVENT
DTSTART;TZID=America/Jamaica:20230929T200000
DTEND;TZID=America/Jamaica:20230930T020000
DTSTAMP:20260422T113037
CREATED:20230914T215829Z
LAST-MODIFIED:20230914T220535Z
UID:8933-1696017600-1696039200@glenmuirhspsa.com
SUMMARY:Valencia's Caribbean Fusion
DESCRIPTION:Meet and Greet\nRefreshments on sale
URL:https://glenmuirhspsa.com/event/end-of-summer-weekend-2/
LOCATION:Valencia’s Caribbean Fusion Restaurant\, 5801 Margate Boulevard\, Margate\, FL\, 33063\, United States
ATTACH;FMTTYPE=image/jpeg:https://glenmuirhspsa.com/wp-content/uploads/2023/09/Florida-Chapter-End-of-Summer-Weekend.jpg
ORGANIZER;CN="Glenmuir Alumni Florida":MAILTO:glenmuirhsalumni@gmail.com
END:VEVENT
BEGIN:VEVENT
DTSTART;TZID=America/Jamaica:20230930T190000
DTEND;TZID=America/Jamaica:20231001T010000
DTSTAMP:20260422T113037
CREATED:20230914T221130Z
LAST-MODIFIED:20230914T221831Z
UID:8942-1696100400-1696122000@glenmuirhspsa.com
SUMMARY:Dinner and Dance
DESCRIPTION:Gold Coast Ballroom\nContribution: $90 + Cash Bar
URL:https://glenmuirhspsa.com/event/dinner-and-dance/
LOCATION:Gold Coast Ballroom\, Lyons Plaza\, 1415 Lyons Road\, Coconut Creek\, FL\, 33063\, United States
ATTACH;FMTTYPE=image/jpeg:https://glenmuirhspsa.com/wp-content/uploads/2023/09/Florida-Chapter-End-of-Summer-Weekend.jpg
ORGANIZER;CN="Glenmuir Alumni Florida":MAILTO:glenmuirhsalumni@gmail.com
END:VEVENT
END:VCALENDAR